BEGIN:VCALENDAR
VERSION:2.0
PRODID:-//Squarespace Inc/Squarespace 6//v6//EN
BEGIN:VEVENT
UID:5e427adfc14e5326b8f5a229@squarespace.com
DTSTAMP:20200211T100923Z
DTSTART:20200318T230000Z
DTEND:20200319T080000Z
SUMMARY:Sacrament of Reconcilaition
END:VEVENT
END:VCALENDAR
