BEGIN:VCALENDAR
VERSION:2.0
PRODID:-//Squarespace Inc/Squarespace 6//v6//EN
BEGIN:VEVENT
UID:5e42710d8185f139c707b9a0@squarespace.com
DTSTAMP:20200211T093551Z
DTSTART:20200303T043000Z
DTEND:20200303T070000Z
SUMMARY:Learning Conversations
END:VEVENT
END:VCALENDAR
