BEGIN:VCALENDAR
VERSION:2.0
PRODID:-//Squarespace Inc/Squarespace 6//v6//EN
BEGIN:VEVENT
UID:5e4276d5ca0f7862fc735709@squarespace.com
DTSTAMP:20200211T094159Z
DTSTART:20200311T043000Z
DTEND:20200311T090000Z
SUMMARY:Learning Conversations 
END:VEVENT
END:VCALENDAR
