BEGIN:VCALENDAR
VERSION:2.0
PRODID:-//Squarespace Inc/Squarespace 6//v6//EN
BEGIN:VEVENT
UID:5e427f87a5242f007acfa126@squarespace.com
DTSTAMP:20200211T102611Z
DTSTART:20200324T221500Z
DTEND:20200324T224500Z
SUMMARY:Holy Week Liturgy
END:VEVENT
END:VCALENDAR
